BEGIN:VCALENDAR
VERSION:2.0
PRODID:-//Port Hedland School of the Air - ECPv6.15.14//NONSGML v1.0//EN
CALSCALE:GREGORIAN
METHOD:PUBLISH
X-ORIGINAL-URL:https://porthedlandsota.wa.edu.au
X-WR-CALDESC:Events for Port Hedland School of the Air
REFRESH-INTERVAL;VALUE=DURATION:PT1H
X-Robots-Tag:noindex
X-PUBLISHED-TTL:PT1H
BEGIN:VTIMEZONE
TZID:Australia/Perth
BEGIN:STANDARD
TZOFFSETFROM:+0800
TZOFFSETTO:+0800
TZNAME:AWST
DTSTART:20240101T000000
END:STANDARD
END:VTIMEZONE
BEGIN:VEVENT
DTSTART;VALUE=DATE:20250811
DTEND;VALUE=DATE:20250812
DTSTAMP:20260422T020506
CREATED:20250324T063929Z
LAST-MODIFIED:20250324T063929Z
UID:2050-1754870400-1754956799@porthedlandsota.wa.edu.au
SUMMARY:Hedland Cup Public Holiday
DESCRIPTION:
URL:https://porthedlandsota.wa.edu.au/calendar/hedland-cup-public-holiday/
CATEGORIES:Public Holidays
END:VEVENT
BEGIN:VEVENT
DTSTART;VALUE=DATE:20250812
DTEND;VALUE=DATE:20250816
DTSTAMP:20260422T020506
CREATED:20250324T064358Z
LAST-MODIFIED:20250324T064358Z
UID:2055-1754956800-1755302399@porthedlandsota.wa.edu.au
SUMMARY:Science Week
DESCRIPTION:
URL:https://porthedlandsota.wa.edu.au/calendar/science-week/
CATEGORIES:School Events
END:VEVENT
BEGIN:VEVENT
DTSTART;VALUE=DATE:20250818
DTEND;VALUE=DATE:20250823
DTSTAMP:20260422T020506
CREATED:20250324T064451Z
LAST-MODIFIED:20250324T064451Z
UID:2057-1755475200-1755907199@porthedlandsota.wa.edu.au
SUMMARY:Book Week
DESCRIPTION:
URL:https://porthedlandsota.wa.edu.au/calendar/book-week/
CATEGORIES:School Events
END:VEVENT
BEGIN:VEVENT
DTSTART;VALUE=DATE:20250822
DTEND;VALUE=DATE:20250823
DTSTAMP:20260422T020506
CREATED:20250324T064606Z
LAST-MODIFIED:20250324T064606Z
UID:2059-1755820800-1755907199@porthedlandsota.wa.edu.au
SUMMARY:Book Week Dress Up
DESCRIPTION:
URL:https://porthedlandsota.wa.edu.au/calendar/book-week-dress-up/
CATEGORIES:School Events
END:VEVENT
END:VCALENDAR