BEGIN:VCALENDAR
VERSION:2.0
PRODID:-//Port Hedland School of the Air - ECPv6.15.14//NONSGML v1.0//EN
CALSCALE:GREGORIAN
METHOD:PUBLISH
X-WR-CALNAME:Port Hedland School of the Air
X-ORIGINAL-URL:https://porthedlandsota.wa.edu.au
X-WR-CALDESC:Events for Port Hedland School of the Air
REFRESH-INTERVAL;VALUE=DURATION:PT1H
X-Robots-Tag:noindex
X-PUBLISHED-TTL:PT1H
BEGIN:VTIMEZONE
TZID:Australia/Perth
BEGIN:STANDARD
TZOFFSETFROM:+0800
TZOFFSETTO:+0800
TZNAME:AWST
DTSTART:20240101T000000
END:STANDARD
END:VTIMEZONE
BEGIN:VEVENT
DTSTART;VALUE=DATE:20250410
DTEND;VALUE=DATE:20250411
DTSTAMP:20260422T024900
CREATED:20250324T062103Z
LAST-MODIFIED:20250324T062103Z
UID:2032-1744243200-1744329599@porthedlandsota.wa.edu.au
SUMMARY:Easter Hat Parade
DESCRIPTION:
URL:https://porthedlandsota.wa.edu.au/calendar/easter-hat-parade/
CATEGORIES:School Events
END:VEVENT
BEGIN:VEVENT
DTSTART;TZID=Australia/Perth:20250410T081000
DTEND;TZID=Australia/Perth:20250410T083000
DTSTAMP:20260422T024900
CREATED:20250324T061223Z
LAST-MODIFIED:20250324T062346Z
UID:2030-1744272600-1744273800@porthedlandsota.wa.edu.au
SUMMARY:Assembly
DESCRIPTION:Mrs Derschow’s class will host our first assembly for the year!
URL:https://porthedlandsota.wa.edu.au/calendar/assembly/
CATEGORIES:School Events
END:VEVENT
BEGIN:VEVENT
DTSTART;VALUE=DATE:20250412
DTEND;VALUE=DATE:20250428
DTSTAMP:20260422T024900
CREATED:20250324T063353Z
LAST-MODIFIED:20250324T063353Z
UID:2042-1744416000-1745798399@porthedlandsota.wa.edu.au
SUMMARY:School holidays
DESCRIPTION:
URL:https://porthedlandsota.wa.edu.au/calendar/school-holidays/
CATEGORIES:Term Breaks
END:VEVENT
BEGIN:VEVENT
DTSTART;TZID=Australia/Perth:20250428T081000
DTEND;TZID=Australia/Perth:20250428T203000
DTSTAMP:20260422T024900
CREATED:20250324T062637Z
LAST-MODIFIED:20250324T063114Z
UID:2034-1745827800-1745872200@porthedlandsota.wa.edu.au
SUMMARY:ANZAC Muster
DESCRIPTION:Port Hedland SOTA will host a special ANZAC Muster to remember our fallen soldiers.
URL:https://porthedlandsota.wa.edu.au/calendar/anzac-muster/
CATEGORIES:School Events
END:VEVENT
END:VCALENDAR