BEGIN:VCALENDAR
VERSION:2.0
PRODID:-//Port Hedland School of the Air - ECPv6.15.14//NONSGML v1.0//EN
CALSCALE:GREGORIAN
METHOD:PUBLISH
X-ORIGINAL-URL:https://porthedlandsota.wa.edu.au
X-WR-CALDESC:Events for Port Hedland School of the Air
REFRESH-INTERVAL;VALUE=DURATION:PT1H
X-Robots-Tag:noindex
X-PUBLISHED-TTL:PT1H
BEGIN:VTIMEZONE
TZID:Australia/Perth
BEGIN:STANDARD
TZOFFSETFROM:+0800
TZOFFSETTO:+0800
TZNAME:AWST
DTSTART:20240101T000000
END:STANDARD
END:VTIMEZONE
BEGIN:VEVENT
DTSTART;TZID=Australia/Perth:20250925T081000
DTEND;TZID=Australia/Perth:20250925T083000
DTSTAMP:20260422T194730
CREATED:20250324T065245Z
LAST-MODIFIED:20250324T065245Z
UID:2065-1758787800-1758789000@porthedlandsota.wa.edu.au
SUMMARY:Assembly
DESCRIPTION:Miss Rose will host our end of Term 3 assembly with her wonderful Kindergarten and Pre-Primary students.
URL:https://porthedlandsota.wa.edu.au/calendar/assembly-3/
CATEGORIES:School Events
END:VEVENT
END:VCALENDAR