BEGIN:VCALENDAR
VERSION:2.0
PRODID:-//Port Hedland School of the Air - ECPv6.15.14//NONSGML v1.0//EN
CALSCALE:GREGORIAN
METHOD:PUBLISH
X-WR-CALNAME:Port Hedland School of the Air
X-ORIGINAL-URL:https://porthedlandsota.wa.edu.au
X-WR-CALDESC:Events for Port Hedland School of the Air
REFRESH-INTERVAL;VALUE=DURATION:PT1H
X-Robots-Tag:noindex
X-PUBLISHED-TTL:PT1H
BEGIN:VTIMEZONE
TZID:Australia/Perth
BEGIN:STANDARD
TZOFFSETFROM:+0800
TZOFFSETTO:+0800
TZNAME:AWST
DTSTART:20240101T000000
END:STANDARD
END:VTIMEZONE
BEGIN:VEVENT
DTSTART;TZID=Australia/Perth:20250506T080000
DTEND;TZID=Australia/Perth:20250508T140000
DTSTAMP:20260416T191654
CREATED:20250324T060908Z
LAST-MODIFIED:20250324T060908Z
UID:2026-1746518400-1746712800@porthedlandsota.wa.edu.au
SUMMARY:Home Tutors Seminar
DESCRIPTION:
URL:https://porthedlandsota.wa.edu.au/calendar/home-tutors-seminar/
LOCATION:Port Hedland SOTA Auditorium\, Waldron Drive\, PORT HEDLAND\, WA\, 6721\, Australia
CATEGORIES:School Events
END:VEVENT
END:VCALENDAR